BEGIN:VCALENDAR
VERSION:2.0
PRODID:-//Tukios.com/
BEGIN:VEVENT
UID:8cb3614c-f696-4abe-9e3e-1397f0b01801@www.lordandstephens.com
DTSTAMP:20260424T195606Z
DTSTART:20260501T190000Z
DTEND:20260501T200000Z
SUMMARY:Funeral Service
DESCRIPTION:
URL:https://www.lordandstephens.com/obituaries/troy-gay
LOCATION: 1211 Jimmy Daniel Road  Watkinsville GA 30677
GEO:33.9143264;-83.4811039
END:VEVENT
END:VCALENDAR