BEGIN:VCALENDAR
VERSION:2.0
PRODID:-//Tukios.com/
BEGIN:VEVENT
UID:d37b776c-0807-4816-a63a-4fdc4df6c701@www.lordandstephens.com
DTSTAMP:20260424T195454Z
DTSTART:20260501T170000Z
DTEND:20260501T190000Z
SUMMARY:Visitation
DESCRIPTION:
URL:https://www.lordandstephens.com/obituaries/troy-gay
LOCATION: 1211 Jimmy Daniel Road  Watkinsville GA 30677
GEO:33.9143264;-83.4811039
END:VEVENT
END:VCALENDAR