BEGIN:VCALENDAR
VERSION:2.0
PRODID:-//Tukios.com/
BEGIN:VEVENT
UID:5bbfe222-a5bd-4291-94a6-e66e4690c892@www.lordandstephens.com
DTSTAMP:20260425T172755Z
DTSTART:20260427T170000Z
DTEND:20260427T180000Z
SUMMARY:Graveside Service
DESCRIPTION:
URL:https://www.lordandstephens.com/obituaries/sandi-jones
LOCATION: 275 Friendship Church Road  Danielsville GA 30633
GEO:34.1570125;-83.2537608
END:VEVENT
END:VCALENDAR