BEGIN:VCALENDAR
VERSION:2.0
PRODID:-//Tukios.com/
BEGIN:VEVENT
UID:1eee274e-5715-402b-82e5-5b3a66852b6f@www.lordandstephens.com
DTSTAMP:20260423T234548Z
DTSTART:20260425T140000Z
DTEND:20260425T150000Z
SUMMARY:Graveside Service
DESCRIPTION:
URL:https://www.lordandstephens.com/obituaries/mackenzie-bramblett
LOCATION: 2370 Highway 53  Watkinsville GA 30677
GEO:33.8681984;-83.4472843
END:VEVENT
END:VCALENDAR