BEGIN:VCALENDAR
VERSION:2.0
PRODID:-//Tukios.com/
BEGIN:VEVENT
UID:102468fc-b3ea-4f69-a3f3-16a2079a402b@www.lordandstephens.com
DTSTAMP:20260419T234856Z
DTSTART:20260421T190000Z
DTEND:20260421T200000Z
SUMMARY:Funeral Service
DESCRIPTION:
URL:https://www.lordandstephens.com/obituaries/loretta-williams
LOCATION: 1211 Jimmy Daniel Road  Watkinsville GA 30677
GEO:33.9143264;-83.4811039
END:VEVENT
END:VCALENDAR