BEGIN:VCALENDAR
VERSION:2.0
PRODID:-//Tukios.com/
BEGIN:VEVENT
UID:8f9dda27-0c42-4807-857e-684d819ce6d1@www.lordandstephens.com
DTSTAMP:20260419T234820Z
DTSTART:20260421T170000Z
DTEND:20260421T190000Z
SUMMARY:Visitation
DESCRIPTION:
URL:https://www.lordandstephens.com/obituaries/loretta-williams
LOCATION: 1211 Jimmy Daniel Road  Watkinsville GA 30677
GEO:33.9143264;-83.4811039
END:VEVENT
END:VCALENDAR