BEGIN:VCALENDAR
VERSION:2.0
PRODID:-//Tukios.com/
BEGIN:VEVENT
UID:d1c0802e-9103-4c84-8b87-e2dacff28178@www.lordandstephens.com
DTSTAMP:20260424T225649Z
DTSTART:20260429T190000Z
DTEND:20260429T200000Z
SUMMARY:Memorial Service
DESCRIPTION:
URL:https://www.lordandstephens.com/obituaries/kathy-kitchens
LOCATION: 963 Highway 98 E  Danielsville GA 30633
GEO:34.121759;-83.2039331
END:VEVENT
END:VCALENDAR