BEGIN:VCALENDAR
VERSION:2.0
PRODID:-//Tukios.com/
BEGIN:VEVENT
UID:a0423d3a-2d4f-4da7-9791-a8a1fc3141ba@www.lordandstephens.com
DTSTAMP:20260424T003729Z
DTSTART:20260426T180000Z
DTEND:20260426T190000Z
SUMMARY:Celebration of Life
DESCRIPTION:
URL:https://www.lordandstephens.com/obituaries/john-wittmeyer
LOCATION:Lord and Stephens West Chapel 1211 Jimmy Daniel Road  Bogart GA 
	30622
GEO:33.91422587;-83.48114302
END:VEVENT
END:VCALENDAR