BEGIN:VCALENDAR
VERSION:2.0
PRODID:-//Tukios.com/
BEGIN:VEVENT
UID:e8943cb5-43ac-490a-874c-503c122f9ff6@www.lordandstephens.com
DTSTAMP:20260424T224351Z
DTSTART:20260427
SUMMARY:Burial
DESCRIPTION:
URL:https://www.lordandstephens.com/obituaries/david-cowart
LOCATION:  Billy White Road   GA 30627
GEO:33.9466787;-83.0677247
END:VEVENT
END:VCALENDAR