BEGIN:VCALENDAR
VERSION:2.0
PRODID:-//Tukios.com/
BEGIN:VEVENT
UID:fdf64afc-2f54-4936-95a1-4adf1afc049f@www.lordandstephens.com
DTSTAMP:20260424T224340Z
DTSTART:20260427T150000Z
DTEND:20260427T160000Z
SUMMARY:Funeral Service
DESCRIPTION:
URL:https://www.lordandstephens.com/obituaries/david-cowart
LOCATION: 963 Highway 98 E  Danielsville GA 30633
GEO:34.121759;-83.2039331
END:VEVENT
END:VCALENDAR