BEGIN:VCALENDAR
VERSION:2.0
PRODID:-//Tukios.com/
BEGIN:VEVENT
UID:0ab7e60d-c0c6-4a7d-9e04-0eeb44d2f8ec@www.lordandstephens.com
DTSTAMP:20260424T224130Z
DTSTART:20260426T220000Z
DTEND:20260427T000000Z
SUMMARY:Visitation
DESCRIPTION:
URL:https://www.lordandstephens.com/obituaries/david-cowart
LOCATION: 963 Highway 98 E  Danielsville GA 30633
GEO:34.121759;-83.2039331
END:VEVENT
END:VCALENDAR