BEGIN:VCALENDAR
VERSION:2.0
PRODID:-//Tukios.com/
BEGIN:VEVENT
UID:cee5d8b7-dd4a-4ee3-9d41-aba9fbb31a4d@www.lordandstephens.com
DTSTAMP:20260426T020405Z
DTSTART:20260427T200000Z
DTEND:20260427T210000Z
SUMMARY:Funeral Service
DESCRIPTION:
URL:https://www.lordandstephens.com/obituaries/chan-floyd
LOCATION: 963 Highway 98 E  Danielsville GA 30633
GEO:34.121759;-83.2039331
END:VEVENT
END:VCALENDAR