BEGIN:VCALENDAR
VERSION:2.0
PRODID:-//Tukios.com/
BEGIN:VEVENT
UID:5afb6c62-f70a-46cb-a240-212c952506fc@www.lordandstephens.com
DTSTAMP:20260426T020310Z
DTSTART:20260427T190000Z
DTEND:20260427T200000Z
SUMMARY:Visitation
DESCRIPTION:
URL:https://www.lordandstephens.com/obituaries/chan-floyd
LOCATION: 963 Highway 98 E  Danielsville GA 30633
GEO:34.121759;-83.2039331
END:VEVENT
END:VCALENDAR