BEGIN:VCALENDAR
VERSION:2.0
PRODID:-//Tukios.com/
BEGIN:VEVENT
UID:c0f9e1d7-c2bf-4c93-8e8d-267d4fe153d0@www.lordandstephens.com
DTSTAMP:20260423T234548Z
DTSTART:20260627T180000Z
DTEND:20260627T190000Z
SUMMARY:Memorial Service
DESCRIPTION:
URL:https://www.lordandstephens.com/obituaries/barbara-peterson
LOCATION: 4355 Lexington Road  Athens GA 30605
GEO:33.9345893;-83.3119192
END:VEVENT
END:VCALENDAR