BEGIN:VCALENDAR
VERSION:2.0
PRODID:-//Tukios.com/
BEGIN:VEVENT
UID:78a34275-881a-4b8a-8565-8edfd2e48276@www.lordandstephens.com
DTSTAMP:20260420T164628Z
DTSTART:20260424T170000Z
DTEND:20260424T180000Z
SUMMARY:Burial
DESCRIPTION:
URL:https://www.lordandstephens.com/obituaries/amy-bryan
LOCATION:Blakely City Cemetery 751 Chattahoochee Avenue  Blakely GA 29823
GEO:31.3728063;-84.9385046
END:VEVENT
END:VCALENDAR