BEGIN:VCALENDAR
VERSION:2.0
PRODID:-//Tukios.com/
BEGIN:VEVENT
UID:1f2aba41-21e9-4d67-8a70-c05202df6a6a@www.lordandstephens.com
DTSTAMP:20260420T164959Z
DTSTART:20260423T150000Z
DTEND:20260423T160000Z
SUMMARY:Funeral Service
DESCRIPTION:
URL:https://www.lordandstephens.com/obituaries/amy-bryan
LOCATION: 1120 Malcom Bridge Road  Bogart GA 30622
GEO:33.874035;-83.5027717
END:VEVENT
END:VCALENDAR