BEGIN:VCALENDAR
VERSION:2.0
PRODID:-//Tukios.com/
BEGIN:VEVENT
UID:24abb306-b7c0-4eba-a674-b5b4f527b37a@www.lordandstephens.com
DTSTAMP:20260420T164959Z
DTSTART:20260422T210000Z
DTEND:20260422T230000Z
SUMMARY:Visitation
DESCRIPTION:
URL:https://www.lordandstephens.com/obituaries/amy-bryan
LOCATION: 1211 Jimmy Daniel Road  Watkinsville GA 30677
GEO:33.9143264;-83.4811039
END:VEVENT
END:VCALENDAR